BEGIN:VCALENDAR
VERSION:2.0
PRODID:-//Contratero//ES
CALSCALE:GREGORIAN
METHOD:PUBLISH
BEGIN:VEVENT
UID:E 801-2025-397@contratero.es
DTSTAMP:20260419T154827Z
DTSTART:20251029T235959
DTEND:20251030T005959
SUMMARY:Cierre: Suministro software servidores ficheros y gestión 
DESCRIPTION:Suministro software servidores ficheros y gestión estaciones de trabajo.\\n\\nOrganismo: Concejalía Delegada de Innovación\, Tecnología\, Agenda Digital y Captación de Inversiones del Ayuntamiento de València\\n\\nVer en Contratero: https://contratero.es/contracts/E 801-2025-397
URL:https://contratero.es/contracts/E 801-2025-397
STATUS:CONFIRMED
BEGIN:VALARM
TRIGGER:-P1D
ACTION:DISPLAY
DESCRIPTION:Recordatorio: Suministro software servidores
END:VALARM
END:VEVENT
END:VCALENDAR